BEGIN:VCALENDAR
VERSION:2.0
PRODID:-//Writers CONduit - ECPv6.15.20//NONSGML v1.0//EN
CALSCALE:GREGORIAN
METHOD:PUBLISH
X-ORIGINAL-URL:https://writersconduit.com
X-WR-CALDESC:Events for Writers CONduit
REFRESH-INTERVAL;VALUE=DURATION:PT1H
X-Robots-Tag:noindex
X-PUBLISHED-TTL:PT1H
BEGIN:VTIMEZONE
TZID:UTC
BEGIN:STANDARD
TZOFFSETFROM:+0000
TZOFFSETTO:+0000
TZNAME:UTC
DTSTART:20210101T000000
END:STANDARD
END:VTIMEZONE
BEGIN:VEVENT
DTSTART;TZID=UTC:20221130T140000
DTEND;TZID=UTC:20221130T170000
DTSTAMP:20260423T162303
CREATED:20221126T025259Z
LAST-MODIFIED:20221126T025428Z
UID:10000001-1669816800-1669827600@writersconduit.com
SUMMARY:AMA with Lethann
DESCRIPTION:Ask Lethann your Writers CONduit questions
URL:https://writersconduit.com/event/ama-with-lethann/
LOCATION:Writers CONduit Twitch Channel
CATEGORIES:AMA
ATTACH;FMTTYPE=image/png:https://writersconduit.com/wp-content/uploads/2022/11/Copy-of-Circle-Logo2sm.png
ORGANIZER;CN="Lethann":MAILTO:lethann@writersconduit.com
END:VEVENT
END:VCALENDAR